BEGIN:VCALENDAR
VERSION:2.0
PRODID:-//bodhidharmazendo - ECPv6.14.2//NONSGML v1.0//EN
CALSCALE:GREGORIAN
METHOD:PUBLISH
X-WR-CALNAME:bodhidharmazendo
X-ORIGINAL-URL:https://bodhidharmazendo.at
X-WR-CALDESC:Veranstaltungen für bodhidharmazendo
REFRESH-INTERVAL;VALUE=DURATION:PT1H
X-Robots-Tag:noindex
X-PUBLISHED-TTL:PT1H
BEGIN:VTIMEZONE
TZID:Europe/Vienna
BEGIN:DAYLIGHT
TZOFFSETFROM:+0100
TZOFFSETTO:+0200
TZNAME:CEST
DTSTART:20260329T010000
END:DAYLIGHT
BEGIN:STANDARD
TZOFFSETFROM:+0200
TZOFFSETTO:+0100
TZNAME:CET
DTSTART:20261025T010000
END:STANDARD
END:VTIMEZONE
BEGIN:VEVENT
DTSTART;TZID=Europe/Vienna:20260328T170000
DTEND;TZID=Europe/Vienna:20260404T120000
DTSTAMP:20260423T120016
CREATED:20250829T203450Z
LAST-MODIFIED:20260314T145933Z
UID:2841-1774717200-1775304000@bodhidharmazendo.at
SUMMARY:Oster-Sesshin mit Zen-Mönch Gendo
DESCRIPTION:Zen-Retreat auf der Hohen Wand \nDieses Zen-Training in konzentrierter Form findet in Abgeschiedenheit und absolutem Schweigen in der Gemeinschaft der Sangha (die Gruppe der Praktizierenden) statt. \nLeitung: Zen-Mönch Gendo Werner Ainhirn \nDer Tagesablauf ist exakt eingeteilt\, beginnt meistens um 3:30 Uhr und endet gegen 21:30 Uhr. Viele Male am Tag wechseln Sitz-Meditation (Zazen) und Geh-Meditation (Kinhin) einander ab. Zweimal täglich werden Sutren rezitiert (überlieferten Schriften von Buddhas Lehrreden)\, durch Samu (Verrichtung einfacher\, notwendiger Arbeiten) haben die Praktizierenden Gelegenheit\, Zen bei alltäglichen Tätigkeiten zu üben\, wobei Samadhi angestrebt wird – das »Nicht-Denken«\, das durch volle Konzentration auf das Tun bzw. gänzliche Verschmelzung mit der jeweiligen Aktivität erreicht wird – bis zum Vergessen des persönlichen Ichs. Die Stille und die vielen Stunden des Zazen bewirken\, dass tiefe Einsichten und Erfahrungen gewonnen werden können. Sesshins sind ein wesentlicher Teil der Zen-Praxis und werden mehrmals während des Jahres angeboten. Für die wahren Zen-SchülerInnen endet ein Sesshin freilich nie. Wie sagt der japanische Zen-Meister Zenkei Shibayama: »Im Grunde ist für den Zen-Schüler jeder Augenblick Sesshin.« \nGendo Zenji hatte das Glück\, zur Zeit von Genro Dai Oshō ganz „zufällig“ zum Zen zu finden. Er wurde bei seinem ersten Zazenkai vor vielen Jahrzehnten mit der Gewissheit beschenkt\, den Weg gefunden zu haben\, dem er seither folgt. Seine Ordinierung zum Laienmönch durch Kigen Oshō fand im Jahr 2017 statt. Nach seinen Worten steht er „nach wie vor fest auf dem Boden dieses Weges – ganz am Anfang.“ Gendo war die letzten Jahre Obmann des Bodhidharma Zendos\, bevor ihn letztes Jahr Max Issan Tschlatscher in dieser Position abgelöst hat. Gendo leitet außerdem das Bodhidharma Zendo Graz. \nKosten für Vollpension: \nEUR 350\,- für Mitglieder (EUR 400\,- für Nichtmitglieder). Dana nach eigenem Ermessen. Für die Teilnahme sind Vorkenntnisse erforderlich\, bitte schreib uns ein Mail\, um dies abzuklären. Nähere Informationen hier. Anmeldungen bitte per E-Mail an mail@bodhidharmazendo.net. \nGehmeditation Kinhin am Hyakujogan Zendo\, geleitet von Gendo (ganz vorne)
URL:https://bodhidharmazendo.at/event/oster-sesshin-2/
LOCATION:BergZendo Hohe Wand\, Am Almfrieden 87\, Hohe Wand\, 2724\, Österreich
END:VEVENT
END:VCALENDAR